BEGIN:VCALENDAR
VERSION:2.0
PRODID:-//hacksw/handcal//NONSGML v1.0//EN
BEGIN:VEVENT
SUMMARY:Passage de la Fleche Bleue
UID:fb2c2750-ef40-40e5-ad46-bebd400151cf
DTSTART:20260324T173000Z
DTEND:20260324T190000Z
LOCATION:Localisation Gymnase Ampere, 70 rue Ampere 36000 Chateauroux
CATEGORIES:Sportif
STATUS:
DESCRIPTION:<p>L'Ecole de Tir vous informe du passage de la Fleche
 Bleue:</p>
 
 <ul>
 	<li>vendredi 20 mars</li>
 	<li>mardi 24
 mars</li>
 </ul>
 
 <p>Horaire: 18h30 - 20h<br>
 Lieu: Gymnase Ampere</p>
URL;VALUE=URI:https://1e-cie-chateauroux.sportsregions.fr/evenements/2026/03/24/passage-de-la-fleche-bleue-2430265
END:VEVENT
END:VCALENDAR
