BEGIN:VCALENDAR
VERSION:2.0
PRODID:-//hacksw/handcal//NONSGML v1.0//EN
BEGIN:VEVENT
SUMMARY:Reunion du Bureau
UID:e5b8272b-b788-46f3-a5a7-9efa6b85c935
DTSTART:20260402T173000Z
DTEND:20260402T190000Z
LOCATION:Localisation 4 rue de la Margotiere 36000 Chateauroux
CATEGORIES:Administratif
STATUS:
DESCRIPTION:<p>La prochaine reunion du Bureau se tiendra le <strong>2
 avril a 19h30</strong> (voir note jointe).<br>
 Tous les membres du
 Bureau y sont convies.</p>
 
 <p>Pour les autres archers du club, merci
 de faire remonter vos messages a vos representants avant cette
 date.</p>
URL;VALUE=URI:https://1e-cie-chateauroux.sportsregions.fr/evenements/2026/04/02/reunion-du-bureau-2434764
END:VEVENT
END:VCALENDAR
